BEGIN:VCALENDAR
VERSION:2.0
PRODID:City of Livermore website Calendar Creator
METHOD:PUBLISH
BEGIN:VEVENT
DTSTAMP:20260415T130638
DTSTART:20260604T190000
DTEND:20260604T210000
SUMMARY:We're Talkin' Books! Club hybrid meeting
DESCRIPTION:<p><a href="https://livermorelibrary.bibliocommons.com/v2/record/S175C1873290"><i><strong>The Bookshop: A History of the American Bookstore</strong></i><strong> by Evan Friss</strong></a> is the June book pick for the <a href="https://sites.google.com/view/were-talkin-books/home" target="_blank">We're Talkin' Books! Club</a> meeting. Join in person at the Civic Center Library in the Board Room or via Zoom at <u><a href="https://tinyurl.com/WTBLPL">https://tinyurl.com/WTBLPL</a></u>&nbsp;on <b>Thursday, June 4, at 7 p.m.</b></p><p>Book Summary: "Bookstores have always been unlike any other kind of store, shaping readers and writers, and influencing our tastes, thoughts, and politics. They nurture local communities while creating new ones of their own. Bookshops are powerful spaces, but they are also endangered ones. In&nbsp;<em>The Bookshop</em>, we see the stakes: what has been, and what might be lost.<br><br>Evan Friss’s history of the bookshop draws on oral histories, archival collections, municipal records, diaries, letters, and interviews with leading booksellers to offer a fascinating look at this institution beloved by so many. The story begins with Benjamin Franklin’s first bookstore in Philadelphia and takes us to a range of booksellers including the Strand, Chicago’s Marshall Field &amp; Company, the Gotham Book Mart, specialty stores like Oscar Wilde and Drum and Spear, sidewalk sellers of used books, Barnes &amp; Noble, Amazon Books, and Parnassus.&nbsp;<em>The Bookshop</em>&nbsp;is also a history of the leading figures in American bookselling, often impassioned eccentrics, and a history of how books have been marketed and sold over the course of more than two centuries—including, for example, a 3,000-pound elephant who signed books at Marshall Field’s in 1944.<br><br><em>The Bookshop</em>&nbsp;is a love letter to bookstores, a charming chronicle for anyone who cherishes these sanctuaries of literature, and essential reading to understand how these vital institutions have shaped American life—and why we still need them."–the publisher</p><p><a href="http://library.livermoreca.gov/digital-library/books-more/book-clubs" target="_self">Book Clubs at the Livermore Public Library</a></p><p><a href="https://sites.google.com/view/were-talkin-books/home" target="_blank">We're Talkin' Books! Club</a> (WTBC) hybrid meetings are held at 7 p.m. on the first Thursday of each month on Zoom at&nbsp;<a href="http://tinyurl.com/wtbclpl" target="_blank"></a><a href="https://tinyurl.com/WTBLPL">https://tinyurl.com/WTBLPL</a>&nbsp;&nbsp;and in person at Civic Center Library Board Room. WTBC is member-centered and led by a small group of book club veterans. Reading selections based on member recommendations and consensus.</p>
X-ALT-DESC;FMTTYPE=text/html:<p><a href="https://livermorelibrary.bibliocommons.com/v2/record/S175C1873290"><i><strong>The Bookshop: A History of the American Bookstore</strong></i><strong> by Evan Friss</strong></a> is the June book pick for the <a href="https://sites.google.com/view/were-talkin-books/home" target="_blank">We're Talkin' Books! Club</a> meeting. Join in person at the Civic Center Library in the Board Room or via Zoom at <u><a href="https://tinyurl.com/WTBLPL">https://tinyurl.com/WTBLPL</a></u>&nbsp;on <b>Thursday, June 4, at 7 p.m.</b></p><p>Book Summary: "Bookstores have always been unlike any other kind of store, shaping readers and writers, and influencing our tastes, thoughts, and politics. They nurture local communities while creating new ones of their own. Bookshops are powerful spaces, but they are also endangered ones. In&nbsp;<em>The Bookshop</em>, we see the stakes: what has been, and what might be lost.<br><br>Evan Friss’s history of the bookshop draws on oral histories, archival collections, municipal records, diaries, letters, and interviews with leading booksellers to offer a fascinating look at this institution beloved by so many. The story begins with Benjamin Franklin’s first bookstore in Philadelphia and takes us to a range of booksellers including the Strand, Chicago’s Marshall Field &amp; Company, the Gotham Book Mart, specialty stores like Oscar Wilde and Drum and Spear, sidewalk sellers of used books, Barnes &amp; Noble, Amazon Books, and Parnassus.&nbsp;<em>The Bookshop</em>&nbsp;is also a history of the leading figures in American bookselling, often impassioned eccentrics, and a history of how books have been marketed and sold over the course of more than two centuries—including, for example, a 3,000-pound elephant who signed books at Marshall Field’s in 1944.<br><br><em>The Bookshop</em>&nbsp;is a love letter to bookstores, a charming chronicle for anyone who cherishes these sanctuaries of literature, and essential reading to understand how these vital institutions have shaped American life—and why we still need them."–the publisher</p><p><a href="http://library.livermoreca.gov/digital-library/books-more/book-clubs" target="_self">Book Clubs at the Livermore Public Library</a></p><p><a href="https://sites.google.com/view/were-talkin-books/home" target="_blank">We're Talkin' Books! Club</a> (WTBC) hybrid meetings are held at 7 p.m. on the first Thursday of each month on Zoom at&nbsp;<a href="http://tinyurl.com/wtbclpl" target="_blank"></a><a href="https://tinyurl.com/WTBLPL">https://tinyurl.com/WTBLPL</a>&nbsp;&nbsp;and in person at Civic Center Library Board Room. WTBC is member-centered and led by a small group of book club veterans. Reading selections based on member recommendations and consensus.</p>
LOCATION:Hybrid Meeting on Zoom at https://tinyurl.com/WTBLPL & Civic Center Library Board Room\, 1188 S. Livermore Ave. Livermore\, California 94550
CLASS:PUBLIC
END:VEVENT
END:VCALENDAR
