BEGIN:VCALENDAR
VERSION:2.0
PRODID:City of Livermore website Calendar Creator
METHOD:PUBLISH
BEGIN:VEVENT
DTSTAMP:20260423T163850
DTSTART:20260516T000000
DTEND:20260517T235900
SUMMARY:Livermore Downtown Street Fest Road Closures
DESCRIPTION:<div x14z9mp="" xat24cr="" x1lziwak="" x1vvkbs="" x126k92a"=""><div dir="auto">Livermore Downtown Street Fest - Road Closures &amp; Event Information</div></div><div xat24cr="" x1lziwak="" x1vvkbs="" xtlvy1s="" x126k92a"=""><div dir="auto">The Livermore Downtown Street Fest will take place:</div></div><div xat24cr="" x1lziwak="" x1vvkbs="" xtlvy1s="" x126k92a"=""><div dir="auto">Saturday, May 16 from 10 a.m. to 6 p.m.</div><div dir="auto">Sunday, May 17 from 10 a.m. to 5 p.m.</div><p dir="auto">&nbsp;</p></div><div xat24cr="" x1lziwak="" x1vvkbs="" xtlvy1s="" x126k92a"=""><div dir="auto">Road Closures</div></div><div xat24cr="" x1lziwak="" x1vvkbs="" xtlvy1s="" x126k92a"=""><div dir="auto">Beginning at 1 a.m. on Saturday, May 16, the following streets will be closed:</div></div><div xat24cr="" x1lziwak="" x1vvkbs="" xtlvy1s="" x126k92a"=""><div dir="auto">First Street from Maple Street to L Street</div><div dir="auto">McLeod, J and K Streets from First Street to Second Street</div><div dir="auto">South Livermore Avenue from Railroad Avenue to Second Street</div></div><div xat24cr="" x1lziwak="" x1vvkbs="" xtlvy1s="" x126k92a"=""><div dir="auto">Vehicles parked in event areas will be towed starting at 1 a.m. Please observe posted signage and plan ahead for delays.</div><p dir="auto">&nbsp;</p></div><div xat24cr="" x1lziwak="" x1vvkbs="" xtlvy1s="" x126k92a"=""><div dir="auto">Farmers Market</div></div><div xat24cr="" x1lziwak="" x1vvkbs="" xtlvy1s="" x126k92a"=""><div dir="auto">The Sunday Farmers Market will still take place on May 17 on Second Street from J Street to L Street.</div><p dir="auto">&nbsp;</p></div><div xat24cr="" x1lziwak="" x1vvkbs="" xtlvy1s="" x126k92a"=""><div dir="auto">Parking</div></div><div xat24cr="" x1lziwak="" x1vvkbs="" xtlvy1s="" x126k92a"=""><div dir="auto">Free parking, including ADA parking, is available at:</div></div><div xat24cr="" x1lziwak="" x1vvkbs="" xtlvy1s="" x126k92a"=""><div dir="auto">Stockmen’s Park</div><div dir="auto">216 Maple Street Parking Structure</div><div dir="auto">I Street Garage</div><div dir="auto">New L Street Garage</div><p dir="auto">&nbsp;</p></div><div xat24cr="" x1lziwak="" x1vvkbs="" xtlvy1s="" x126k92a"=""><div dir="auto">Free Bus Rides</div></div><div xat24cr="" x1lziwak="" x1vvkbs="" xtlvy1s="" x126k92a"=""><div dir="auto">Wheels Bus will offer free rides on Rapid routes 10R and 30R during the festival.</div><p dir="auto">&nbsp;</p></div><div xat24cr="" x1lziwak="" x1vvkbs="" xtlvy1s="" x126k92a"=""><div dir="auto">Community Booths</div></div><div xat24cr="" x1lziwak="" x1vvkbs="" xtlvy1s="" x126k92a"=""><div dir="auto">Livermore Police Volunteers will offer free child fingerprinting. Parents receive a USB with their child’s information; no data is stored by police.</div></div><div xat24cr="" x1lziwak="" x1vvkbs="" xtlvy1s="" x126k92a"=""><div dir="auto">The Livermore K9 Foundation will also be in attendance.</div><p dir="auto">&nbsp;</p></div><div xat24cr="" x1lziwak="" x1vvkbs="" xtlvy1s="" x126k92a"=""><div dir="auto">Please plan ahead and enjoy a safe weekend in Downtown Livermore.</div></div>
X-ALT-DESC;FMTTYPE=text/html:<div x14z9mp="" xat24cr="" x1lziwak="" x1vvkbs="" x126k92a"=""><div dir="auto">Livermore Downtown Street Fest - Road Closures &amp; Event Information</div></div><div xat24cr="" x1lziwak="" x1vvkbs="" xtlvy1s="" x126k92a"=""><div dir="auto">The Livermore Downtown Street Fest will take place:</div></div><div xat24cr="" x1lziwak="" x1vvkbs="" xtlvy1s="" x126k92a"=""><div dir="auto">Saturday, May 16 from 10 a.m. to 6 p.m.</div><div dir="auto">Sunday, May 17 from 10 a.m. to 5 p.m.</div><p dir="auto">&nbsp;</p></div><div xat24cr="" x1lziwak="" x1vvkbs="" xtlvy1s="" x126k92a"=""><div dir="auto">Road Closures</div></div><div xat24cr="" x1lziwak="" x1vvkbs="" xtlvy1s="" x126k92a"=""><div dir="auto">Beginning at 1 a.m. on Saturday, May 16, the following streets will be closed:</div></div><div xat24cr="" x1lziwak="" x1vvkbs="" xtlvy1s="" x126k92a"=""><div dir="auto">First Street from Maple Street to L Street</div><div dir="auto">McLeod, J and K Streets from First Street to Second Street</div><div dir="auto">South Livermore Avenue from Railroad Avenue to Second Street</div></div><div xat24cr="" x1lziwak="" x1vvkbs="" xtlvy1s="" x126k92a"=""><div dir="auto">Vehicles parked in event areas will be towed starting at 1 a.m. Please observe posted signage and plan ahead for delays.</div><p dir="auto">&nbsp;</p></div><div xat24cr="" x1lziwak="" x1vvkbs="" xtlvy1s="" x126k92a"=""><div dir="auto">Farmers Market</div></div><div xat24cr="" x1lziwak="" x1vvkbs="" xtlvy1s="" x126k92a"=""><div dir="auto">The Sunday Farmers Market will still take place on May 17 on Second Street from J Street to L Street.</div><p dir="auto">&nbsp;</p></div><div xat24cr="" x1lziwak="" x1vvkbs="" xtlvy1s="" x126k92a"=""><div dir="auto">Parking</div></div><div xat24cr="" x1lziwak="" x1vvkbs="" xtlvy1s="" x126k92a"=""><div dir="auto">Free parking, including ADA parking, is available at:</div></div><div xat24cr="" x1lziwak="" x1vvkbs="" xtlvy1s="" x126k92a"=""><div dir="auto">Stockmen’s Park</div><div dir="auto">216 Maple Street Parking Structure</div><div dir="auto">I Street Garage</div><div dir="auto">New L Street Garage</div><p dir="auto">&nbsp;</p></div><div xat24cr="" x1lziwak="" x1vvkbs="" xtlvy1s="" x126k92a"=""><div dir="auto">Free Bus Rides</div></div><div xat24cr="" x1lziwak="" x1vvkbs="" xtlvy1s="" x126k92a"=""><div dir="auto">Wheels Bus will offer free rides on Rapid routes 10R and 30R during the festival.</div><p dir="auto">&nbsp;</p></div><div xat24cr="" x1lziwak="" x1vvkbs="" xtlvy1s="" x126k92a"=""><div dir="auto">Community Booths</div></div><div xat24cr="" x1lziwak="" x1vvkbs="" xtlvy1s="" x126k92a"=""><div dir="auto">Livermore Police Volunteers will offer free child fingerprinting. Parents receive a USB with their child’s information; no data is stored by police.</div></div><div xat24cr="" x1lziwak="" x1vvkbs="" xtlvy1s="" x126k92a"=""><div dir="auto">The Livermore K9 Foundation will also be in attendance.</div><p dir="auto">&nbsp;</p></div><div xat24cr="" x1lziwak="" x1vvkbs="" xtlvy1s="" x126k92a"=""><div dir="auto">Please plan ahead and enjoy a safe weekend in Downtown Livermore.</div></div>
LOCATION:Livermore Downtown\, 
CLASS:PUBLIC
END:VEVENT
END:VCALENDAR
