BEGIN:VCALENDAR
VERSION:2.0
PRODID:City of Livermore website Calendar Creator
METHOD:PUBLISH
BEGIN:VEVENT
DTSTAMP:20260423T165813
DTSTART:20260501T000000
DTEND:20260501T235900
SUMMARY:May Collector's Sticker Available
DESCRIPTION:<div xat24cr="" x1lziwak="" x1vvkbs="" xtlvy1s="" x126k92a"=""><div dir="auto"><span style="font-size: 1.25rem;"><strong>&nbsp;</strong></span></div><p dir="auto"><span style="font-size: 1.25rem;"><strong>&nbsp;MAY STICKER AVAILABLE MAY 1st!</strong></span></p><p dir="auto"><span style="font-size: 1.25rem;"></span></p><div dir="auto"><span style="font-size: 1.25rem;">Monthly Collector’s Stickers</span></div><div dir="auto">Each month features a brand-new, exclusive LPD sticker</div></div><div xat24cr="" x1lziwak="" x1vvkbs="" xtlvy1s="" x126k92a"=""><div dir="auto">Limited Time Only</div><div dir="auto">You can only get that month’s sticker during that month - once it’s gone, it’s gone!</div></div><div xat24cr="" x1lziwak="" x1vvkbs="" xtlvy1s="" x126k92a"=""><div dir="auto">Pick Yours Up at the Livermore Police Kiosk</div><div dir="auto">Stop by the kiosk in our lobby to grab your collectible sticker</div></div><div xat24cr="" x1lziwak="" x1vvkbs="" xtlvy1s="" x126k92a"=""><div dir="auto">December Sticker Available NOW!</div><div dir="auto">Come anytime between December 1–31 to grab the very first sticker of the series.</div></div><div xat24cr="" x1lziwak="" x1vvkbs="" xtlvy1s="" x126k92a"=""><div dir="auto">BONUS: Spot Tater?</div><div dir="auto">If you see K9 Tater out and about, you can ask him for a Collector’s Sticker too!&nbsp;</div></div>
X-ALT-DESC;FMTTYPE=text/html:<div xat24cr="" x1lziwak="" x1vvkbs="" xtlvy1s="" x126k92a"=""><div dir="auto"><span style="font-size: 1.25rem;"><strong>&nbsp;</strong></span></div><p dir="auto"><span style="font-size: 1.25rem;"><strong>&nbsp;MAY STICKER AVAILABLE MAY 1st!</strong></span></p><p dir="auto"><span style="font-size: 1.25rem;"></span></p><div dir="auto"><span style="font-size: 1.25rem;">Monthly Collector’s Stickers</span></div><div dir="auto">Each month features a brand-new, exclusive LPD sticker</div></div><div xat24cr="" x1lziwak="" x1vvkbs="" xtlvy1s="" x126k92a"=""><div dir="auto">Limited Time Only</div><div dir="auto">You can only get that month’s sticker during that month - once it’s gone, it’s gone!</div></div><div xat24cr="" x1lziwak="" x1vvkbs="" xtlvy1s="" x126k92a"=""><div dir="auto">Pick Yours Up at the Livermore Police Kiosk</div><div dir="auto">Stop by the kiosk in our lobby to grab your collectible sticker</div></div><div xat24cr="" x1lziwak="" x1vvkbs="" xtlvy1s="" x126k92a"=""><div dir="auto">December Sticker Available NOW!</div><div dir="auto">Come anytime between December 1–31 to grab the very first sticker of the series.</div></div><div xat24cr="" x1lziwak="" x1vvkbs="" xtlvy1s="" x126k92a"=""><div dir="auto">BONUS: Spot Tater?</div><div dir="auto">If you see K9 Tater out and about, you can ask him for a Collector’s Sticker too!&nbsp;</div></div>
LOCATION:Livermore Police Department\, 1110 S. Livermore Ave. Livermore\, California 94550
CLASS:PUBLIC
END:VEVENT
END:VCALENDAR
