BEGIN:VCALENDAR
VERSION:2.0
PRODID:City of Livermore website Calendar Creator
METHOD:PUBLISH
BEGIN:VEVENT
DTSTAMP:20260424T113806
DTSTART:20260509T090000
DTEND:20260509T235900
SUMMARY:Litter Cleanup - Help Keep Livermore Beautiful
DESCRIPTION:<p data-pm-slice="1 1 []">Want to give back to your City and feel good about helping to keep Livermore beautiful? Join volunteers for the second litter cleanup of the year.</p><p>Join us on Saturday, May 9 at 9 a.m. and be sure to sign up (it’s all free) to learn the location.</p><p>All materials will be provided at the event, including safety guidelines, waivers, garbage bags, litter pickup sticks, and safety vests. Just wear comfortable clothing and bring a willingness to make a difference!</p><p>Sign up here: <strong><u><a href="https://signup.com/go/QPopxrs">https://signup.com/go/QPopxrs</a></u></strong></p>
X-ALT-DESC;FMTTYPE=text/html:<p data-pm-slice="1 1 []">Want to give back to your City and feel good about helping to keep Livermore beautiful? Join volunteers for the second litter cleanup of the year.</p><p>Join us on Saturday, May 9 at 9 a.m. and be sure to sign up (it’s all free) to learn the location.</p><p>All materials will be provided at the event, including safety guidelines, waivers, garbage bags, litter pickup sticks, and safety vests. Just wear comfortable clothing and bring a willingness to make a difference!</p><p>Sign up here: <strong><u><a href="https://signup.com/go/QPopxrs">https://signup.com/go/QPopxrs</a></u></strong></p>
LOCATION:
CLASS:PUBLIC
END:VEVENT
END:VCALENDAR
