BEGIN:VCALENDAR
VERSION:2.0
PRODID:City of Livermore website Calendar Creator
METHOD:PUBLISH
BEGIN:VEVENT
DTSTAMP:20210818T144610
DTSTART:20210906T000000
DTEND:20210906T235900
SUMMARY:Library Closed
DESCRIPTION:The Library will be closed on Monday, September 6, 2021, for Labor Day.&nbsp;
X-ALT-DESC;FMTTYPE=text/html:The Library will be closed on Monday, September 6, 2021, for Labor Day.&nbsp;
LOCATION:
CLASS:PUBLIC
END:VEVENT
END:VCALENDAR
