BEGIN:VCALENDAR
VERSION:2.0
PRODID:City of Livermore website Calendar Creator
METHOD:PUBLISH
BEGIN:VEVENT
DTSTAMP:20210818T144322
DTSTART:20210902T190000
DTEND:20210902T210000
SUMMARY:We're Talkin' Books! Club via Zoom
DESCRIPTION:<p><strong><a data-mce-href="https://livermorelibrary.bibliocommons.com/v2/search?query=The Night Watchman Erdrich&amp;searchType=smart" href="https://livermorelibrary.bibliocommons.com/v2/search?query=The%20Night%20Watchman%20Erdrich&amp;searchType=smart" target="_blank"><em>The Night Watchman</em></a>&nbsp;by Louise Erdrich</strong></p><p>Based on the extraordinary life of author Louise Erdrich's grandfather who worked as a night watchman and carried the fight against Native dispossession from rural North Dakota all the way to Washington, D. C. , this powerful novel explores themes of love and death with lightness and gravity and unfolds with the elegant prose, sly humor, and depth of feeling of a master craftsman.&nbsp;</p><p>To join the book club group, contact Blanche Angelo at&nbsp;<a href="mailto:beangelo@livermore.lib.ca.us" data-mce-href="mailto:&#98;&#101;&#97;&#110;&#103;&#101;&#108;&#111;&#64;&#108;&#105;&#118;&#101;&#114;&#109;&#111;&#114;&#101;&#46;&#108;&#105;&#98;&#46;&#99;&#97;&#46;&#117;&#115;">beangelo@livermore.lib.ca.us</a>&nbsp;or call 925-373-5574.</p><p>&nbsp;</p>
X-ALT-DESC;FMTTYPE=text/html:<p><strong><a data-mce-href="https://livermorelibrary.bibliocommons.com/v2/search?query=The Night Watchman Erdrich&amp;searchType=smart" href="https://livermorelibrary.bibliocommons.com/v2/search?query=The%20Night%20Watchman%20Erdrich&amp;searchType=smart" target="_blank"><em>The Night Watchman</em></a>&nbsp;by Louise Erdrich</strong></p><p>Based on the extraordinary life of author Louise Erdrich's grandfather who worked as a night watchman and carried the fight against Native dispossession from rural North Dakota all the way to Washington, D. C. , this powerful novel explores themes of love and death with lightness and gravity and unfolds with the elegant prose, sly humor, and depth of feeling of a master craftsman.&nbsp;</p><p>To join the book club group, contact Blanche Angelo at&nbsp;<a href="mailto:beangelo@livermore.lib.ca.us" data-mce-href="mailto:&#98;&#101;&#97;&#110;&#103;&#101;&#108;&#111;&#64;&#108;&#105;&#118;&#101;&#114;&#109;&#111;&#114;&#101;&#46;&#108;&#105;&#98;&#46;&#99;&#97;&#46;&#117;&#115;">beangelo@livermore.lib.ca.us</a>&nbsp;or call 925-373-5574.</p><p>&nbsp;</p>
LOCATION:Online via Zoom\, 
CLASS:PUBLIC
END:VEVENT
END:VCALENDAR
