BEGIN:VCALENDAR
VERSION:2.0
PRODID:City of Livermore website Calendar Creator
METHOD:PUBLISH
BEGIN:VEVENT
DTSTAMP:20210923T160207
DTSTART:20211002T140000
DTEND:20211002T150000
SUMMARY:Author Talk: Senait Mesfin Piccigallo
DESCRIPTION:<p>Author Senit Mesfin Piccigallo will discuss her book&nbsp;<em>You’re in America – Now What? 7 Steps to Integrate with Ease and Joy</em>. This in-person program will be held outdoors at the Civic Center Library. Copies of Piccigallo’s book will be available for sale and signing.<br><br>The book&nbsp;<em>You’re in America – Now What?</em>&nbsp;is a guide to help immigrants transition into their new country. In it, Piccigallo&nbsp;reflects&nbsp;on her&nbsp;experience coming to her new home by way of China and Eritrea and provides proven techniques to help first-generation immigrants from developing nations make the American integration process easier and enjoyable.<br><br>This program is part of the Library’s Authors and Arts Series, supported by the Friends of the Livermore Public Library.</p><p><label>When:&nbsp;</label>Saturday, October 2, 2021<br><label>Time:&nbsp;</label>2:00 PM<br><label>Where:&nbsp;</label>Civic Center Library Outdoors, 1188 S. Livermore Ave., Livermore, CA, 94550<br><label>Suggested Audience:&nbsp;</label>Adults<br><label>Contact:&nbsp;</label>Paul Sevilla&nbsp; 925-373-5505</p>
X-ALT-DESC;FMTTYPE=text/html:<p>Author Senit Mesfin Piccigallo will discuss her book&nbsp;<em>You’re in America – Now What? 7 Steps to Integrate with Ease and Joy</em>. This in-person program will be held outdoors at the Civic Center Library. Copies of Piccigallo’s book will be available for sale and signing.<br><br>The book&nbsp;<em>You’re in America – Now What?</em>&nbsp;is a guide to help immigrants transition into their new country. In it, Piccigallo&nbsp;reflects&nbsp;on her&nbsp;experience coming to her new home by way of China and Eritrea and provides proven techniques to help first-generation immigrants from developing nations make the American integration process easier and enjoyable.<br><br>This program is part of the Library’s Authors and Arts Series, supported by the Friends of the Livermore Public Library.</p><p><label>When:&nbsp;</label>Saturday, October 2, 2021<br><label>Time:&nbsp;</label>2:00 PM<br><label>Where:&nbsp;</label>Civic Center Library Outdoors, 1188 S. Livermore Ave., Livermore, CA, 94550<br><label>Suggested Audience:&nbsp;</label>Adults<br><label>Contact:&nbsp;</label>Paul Sevilla&nbsp; 925-373-5505</p>
LOCATION:Civic Center Library\, 1188 S. Livermore Ave Livermore\, California 94550
CLASS:PUBLIC
END:VEVENT
END:VCALENDAR
